BEGIN:VCALENDAR
VERSION:2.0
PRODID:-//Ernst-Moritz-Arndt-Gesellschaft e. V. - ECPv6.15.12.2//NONSGML v1.0//EN
CALSCALE:GREGORIAN
METHOD:PUBLISH
X-WR-CALNAME:Ernst-Moritz-Arndt-Gesellschaft e. V.
X-ORIGINAL-URL:https://ernst-moritz-arndt-gesellschaft.de
X-WR-CALDESC:Veranstaltungen für Ernst-Moritz-Arndt-Gesellschaft e. V.
REFRESH-INTERVAL;VALUE=DURATION:PT1H
X-Robots-Tag:noindex
X-PUBLISHED-TTL:PT1H
BEGIN:VTIMEZONE
TZID:Europe/Berlin
BEGIN:DAYLIGHT
TZOFFSETFROM:+0100
TZOFFSETTO:+0200
TZNAME:CEST
DTSTART:20250330T010000
END:DAYLIGHT
BEGIN:STANDARD
TZOFFSETFROM:+0200
TZOFFSETTO:+0100
TZNAME:CET
DTSTART:20251026T010000
END:STANDARD
BEGIN:DAYLIGHT
TZOFFSETFROM:+0100
TZOFFSETTO:+0200
TZNAME:CEST
DTSTART:20260329T010000
END:DAYLIGHT
BEGIN:STANDARD
TZOFFSETFROM:+0200
TZOFFSETTO:+0100
TZNAME:CET
DTSTART:20261025T010000
END:STANDARD
BEGIN:DAYLIGHT
TZOFFSETFROM:+0100
TZOFFSETTO:+0200
TZNAME:CEST
DTSTART:20270328T010000
END:DAYLIGHT
BEGIN:STANDARD
TZOFFSETFROM:+0200
TZOFFSETTO:+0100
TZNAME:CET
DTSTART:20271031T010000
END:STANDARD
END:VTIMEZONE
BEGIN:VEVENT
DTSTART;TZID=Europe/Berlin:20260426T160000
DTEND;TZID=Europe/Berlin:20260426T180000
DTSTAMP:20260420T120112
CREATED:20250922T105915Z
LAST-MODIFIED:20260407T162108Z
UID:873-1777219200-1777226400@ernst-moritz-arndt-gesellschaft.de
SUMMARY:Ernst Moritz Arndt - politische Sprache im Strom der Zeit
DESCRIPTION:Arndt-Experte Prof. Reinhard Bach hilft\, Vorurteile zu hinterfragen\, denen diverse Schriften von Ernst Moritz Arndt – verleitet durch seine offensive Meinungsstärke und damit Wortwahl – im Wandel der Zeiten ausgesetzt war und ist. \nSonntag\, 26. April 2026 – 16:00 Uhr – Groß Schoritz \n 
URL:https://ernst-moritz-arndt-gesellschaft.de/event/wem-gehoert-ernst-moritz-arndt/
LOCATION:Ernst-Moritz-Arndt-Haus\, Zur Schoritzer Wiek 68\, Groß Schoritz\, 18574
END:VEVENT
BEGIN:VEVENT
DTSTART;TZID=Europe/Berlin:20260516T160000
DTEND;TZID=Europe/Berlin:20260516T173000
DTSTAMP:20260420T120112
CREATED:20251218T081840Z
LAST-MODIFIED:20260130T144747Z
UID:1002-1778947200-1778952600@ernst-moritz-arndt-gesellschaft.de
SUMMARY:Lesung aus „Versuch einer Geschichte der Leibeigenschaft in Pommern und Rügen"
DESCRIPTION:Im Vorgriff auf den 220. Jahrestag der Aufhebung der Leibeigenschaft auf Rügen und in ganz Schwedisch-Pommern liest Boris Hruschka\, Leiter der Hinterlandbühne Rügen e.V.\, aus dem Werk „Versuch einer Geschichte der Leibeigenschaft in Pommern und Rügen“. Wir freuen uns auf eine Diskussion zu dieser bis in die heutige Agrarstruktur auf Rügen wirkende Entscheidung.
URL:https://ernst-moritz-arndt-gesellschaft.de/event/lesung-aus-versuch-einer-geschichte-der-leibeigenschaft-in-pommern-und-ruegen/
LOCATION:Ernst-Moritz-Arndt-Haus\, Zur Schoritzer Wiek 68\, Groß Schoritz\, 18574
END:VEVENT
BEGIN:VEVENT
DTSTART;TZID=Europe/Berlin:20260604T073000
DTEND;TZID=Europe/Berlin:20260604T200000
DTSTAMP:20260420T120112
CREATED:20260130T145313Z
LAST-MODIFIED:20260407T081001Z
UID:1018-1780558200-1780603200@ernst-moritz-arndt-gesellschaft.de
SUMMARY:04. Juni 2026 - Vereinsfahrt in die Landeshauptstadt Schwerin
DESCRIPTION:Die Mitglieder und Freunde der Arndt-Gesellschaft erhalten die Möglichkeit\, die Arbeit des Landesparlaments MV und die ausgesuchter Ministerien aus erster Hand kennenzulernen. Details zum Ablauf werden noch bekanntgegeben.
URL:https://ernst-moritz-arndt-gesellschaft.de/event/03-04-juni-2026-vereinsfahrt-in-die-landeshauptstadt-schwerin/
END:VEVENT
BEGIN:VEVENT
DTSTART;TZID=Europe/Berlin:20260627T160000
DTEND;TZID=Europe/Berlin:20260627T180000
DTSTAMP:20260420T120112
CREATED:20260318T095243Z
LAST-MODIFIED:20260318T095243Z
UID:1049-1782576000-1782583200@ernst-moritz-arndt-gesellschaft.de
SUMMARY:Der Blick der "Malweiber" auf unsere Insel
DESCRIPTION:
URL:https://ernst-moritz-arndt-gesellschaft.de/event/der-blick-der-malweiber-auf-unsere-insel/
LOCATION:Ernst-Moritz-Arndt-Haus
END:VEVENT
BEGIN:VEVENT
DTSTART;TZID=Europe/Berlin:20260702T180000
DTEND;TZID=Europe/Berlin:20260702T193000
DTSTAMP:20260420T120112
CREATED:20260317T110009Z
LAST-MODIFIED:20260318T095527Z
UID:1045-1783015200-1783020600@ernst-moritz-arndt-gesellschaft.de
SUMMARY:Quo vadis "Freiheitsrechte" / 220ter Jahrestag der Aufhebung der Leibeigenschaft
DESCRIPTION:
URL:https://ernst-moritz-arndt-gesellschaft.de/event/einschraenkungen-persoenlicher-freiheitsrechte-220ter-jahrestag-der-aufhebung-der-leibeigenschaft/
LOCATION:Rathaus Greifswald Bürgerschaftssaal\, Markt 15\, Greifswald\, 17489\, Germany
END:VEVENT
BEGIN:VEVENT
DTSTART;TZID=Europe/Berlin:20260819T170000
DTEND;TZID=Europe/Berlin:20260819T190000
DTSTAMP:20260420T120112
CREATED:20260130T150003Z
LAST-MODIFIED:20260130T150003Z
UID:1020-1787158800-1787166000@ernst-moritz-arndt-gesellschaft.de
SUMMARY:Konzertleben - Ein Kammerkonzert (geplant)
DESCRIPTION:Nähere Informationen folgen!
URL:https://ernst-moritz-arndt-gesellschaft.de/event/konzertleben-ein-kammerkonzert-geplant/
LOCATION:Ernst-Moritz-Arndt-Haus
END:VEVENT
BEGIN:VEVENT
DTSTART;TZID=Europe/Berlin:20260830T110000
DTEND;TZID=Europe/Berlin:20260830T140000
DTSTAMP:20260420T120112
CREATED:20260130T150233Z
LAST-MODIFIED:20260130T150233Z
UID:1022-1788087600-1788098400@ernst-moritz-arndt-gesellschaft.de
SUMMARY:Sommer-Picknick im Arndt-Garten
DESCRIPTION:Traditionell mit Picknick-Korb und Bestuhlung finden wir uns im Arndt-Garten zu einem spät-sommerlichen Zusammensein ein. \nFür eine angenehme musikalische Begleitung ist gesorgt.
URL:https://ernst-moritz-arndt-gesellschaft.de/event/sommer-picknick-im-arndt-garten-2/
LOCATION:Ernst-Moritz-Arndt-Haus\, Zur Schoritzer Wiek 68\, Groß Schoritz\, 18574
END:VEVENT
BEGIN:VEVENT
DTSTART;TZID=Europe/Berlin:20260919T150000
DTEND;TZID=Europe/Berlin:20260919T173000
DTSTAMP:20260420T120112
CREATED:20260130T150731Z
LAST-MODIFIED:20260326T110344Z
UID:1024-1789830000-1789839000@ernst-moritz-arndt-gesellschaft.de
SUMMARY:Nur ein Kreuzchen? Zur Bedeutung freier Wahlen
DESCRIPTION:Prof. Dr. Konrad Ott erläutert\, was freie Wahlen als Kern einer parlamentarischen Demokratie und als erlebbare Volkssouveränität für das Funktionieren unseres Staates bedeuten. Unser Referent lehnt sich dabei auch an historische Forderungen nach freien Wahlen an und beleuchtet\, wie sich die Organisation von Wahlen in den letzten beiden Jahrhunderten in Deutschland verändert hat.
URL:https://ernst-moritz-arndt-gesellschaft.de/event/nur-ein-kreuzchen-zur-bedeutung-freier-wahlen/
LOCATION:Ernst-Moritz-Arndt-Haus
END:VEVENT
BEGIN:VEVENT
DTSTART;TZID=Europe/Berlin:20261004T160000
DTEND;TZID=Europe/Berlin:20261004T180000
DTSTAMP:20260420T120112
CREATED:20260130T151253Z
LAST-MODIFIED:20260130T151322Z
UID:1026-1791129600-1791136800@ernst-moritz-arndt-gesellschaft.de
SUMMARY:Jugendjahre eines publizistischen Urgesteins (Aufführung von Cerca Dio)
DESCRIPTION:Unter Leitung von Johannes Gärtner aus Dresden erleben wir eine literarisch-musikalische Inszenierung des Lebens von Ernst Moritz Arndt in seinen Jugendjahren auf der Insel Rügen und auf Festland Rügen.
URL:https://ernst-moritz-arndt-gesellschaft.de/event/jugendjahre-eines-publizistischen-urgesteins-eine-auffuehrung-von-cerca-dio/
LOCATION:Ernst-Moritz-Arndt-Haus
END:VEVENT
BEGIN:VEVENT
DTSTART;TZID=Europe/Berlin:20261121T133000
DTEND;TZID=Europe/Berlin:20261121T153000
DTSTAMP:20260420T120112
CREATED:20260317T105230Z
LAST-MODIFIED:20260317T105230Z
UID:1035-1795267800-1795275000@ernst-moritz-arndt-gesellschaft.de
SUMMARY:Mitgliederversammlung (auf Einladung)
DESCRIPTION:
URL:https://ernst-moritz-arndt-gesellschaft.de/event/mitgliederversammlung-auf-einladung/
LOCATION:Orangerie Putbus\, Alleestraße 35\, Putbus\, Deutschland\, 18581\, Germany
END:VEVENT
BEGIN:VEVENT
DTSTART;TZID=Europe/Berlin:20261121T160000
DTEND;TZID=Europe/Berlin:20261121T180000
DTSTAMP:20260420T120112
CREATED:20260317T105541Z
LAST-MODIFIED:20260317T105541Z
UID:1040-1795276800-1795284000@ernst-moritz-arndt-gesellschaft.de
SUMMARY:Zaubermärchen von der Insel Rügen Teil 2 (Berliner Lesetheater)
DESCRIPTION:
URL:https://ernst-moritz-arndt-gesellschaft.de/event/zaubermaerchen-von-der-insel-ruegen-teil-2-berliner-lesetheater/
LOCATION:Logenhaus Putbus\, Circus 3\, Putbus\, 18581\, Germany
END:VEVENT
BEGIN:VEVENT
DTSTART;TZID=Europe/Berlin:20261213T160000
DTEND;TZID=Europe/Berlin:20261213T183000
DTSTAMP:20260420T120112
CREATED:20260317T110133Z
LAST-MODIFIED:20260317T110133Z
UID:1047-1797177600-1797186600@ernst-moritz-arndt-gesellschaft.de
SUMMARY:Adventstreffen bei Kerzenschein
DESCRIPTION:
URL:https://ernst-moritz-arndt-gesellschaft.de/event/adventstreffen-bei-kerzenschein/
LOCATION:Ernst-Moritz-Arndt-Haus
END:VEVENT
END:VCALENDAR